BEGIN:VCALENDAR
VERSION:2.0
PRODID:-//49.12.112.25//NONSGML kigkonsult.se iCalcreator 2.20//
CALSCALE:GREGORIAN
METHOD:PUBLISH
X-WR-TIMEZONE:Europe/Berlin
BEGIN:VEVENT
UID:event266@IWB Energy Stars
DTSTAMP:20260421T174110Z
CATEGORIES:Meisterschafts - Spiel
DESCRIPTION:Energy Stars : Hawaiian Hockey Team\nCategory: Meisterschafts -
  Spiel\nLink: https://iwb-energy-stars.ch/index.php?option=com_jem&view=ev
 ent&id=266:energy-stars-hawaiian-hockey-team\n
DTSTART;TZID=Europe/Berlin:20211212T194500
DTEND;TZID=Europe/Berlin:20211212T214500
LOCATION:St. Jakob Arena - Basel
SUMMARY:Energy Stars : Hawaiian Hockey Team
URL:https://iwb-energy-stars.ch/index.php?option=com_jem&view=event&id=266:
 energy-stars-hawaiian-hockey-team
END:VEVENT
END:VCALENDAR