BEGIN:VCALENDAR
VERSION:2.0
PRODID:-//49.12.112.25//NONSGML kigkonsult.se iCalcreator 2.20//
CALSCALE:GREGORIAN
METHOD:PUBLISH
X-WR-TIMEZONE:Europe/Berlin
BEGIN:VEVENT
UID:event268@IWB Energy Stars
DTSTAMP:20260421T173201Z
CATEGORIES:Kein Training
DESCRIPTION:KEIN TRAINING\nCategory: Kein Training\nLink: https://iwb-energ
 y-stars.ch/index.php?option=com_jem&view=event&id=268:kein-training\n
DTSTART;TZID=Europe/Berlin:20211226T193000
DTEND;TZID=Europe/Berlin:20211226T210000
LOCATION:KEIN Training
SUMMARY:KEIN TRAINING
URL:https://iwb-energy-stars.ch/index.php?option=com_jem&view=event&id=268:
 kein-training
END:VEVENT
END:VCALENDAR