BEGIN:VCALENDAR
VERSION:2.0
PRODID:-//49.12.112.25//NONSGML kigkonsult.se iCalcreator 2.20//
CALSCALE:GREGORIAN
METHOD:PUBLISH
X-WR-TIMEZONE:Europe/Berlin
BEGIN:VEVENT
UID:event279@IWB Energy Stars
DTSTAMP:20260421T173612Z
CATEGORIES:Kein Training
DESCRIPTION:KEIN TRAINING Eiskunstlauf Anlass\nCategory: Kein Training\nLin
 k: https://iwb-energy-stars.ch/index.php?option=com_jem&view=event&id=279:
 kein-training-eiskunstlauf-anlass\n
DTSTART;TZID=Europe/Berlin:20220320T193000
DTEND;TZID=Europe/Berlin:20220320T210000
LOCATION:St. Jakob Arena - Basel
SUMMARY:KEIN TRAINING Eiskunstlauf Anlass
URL:https://iwb-energy-stars.ch/index.php?option=com_jem&view=event&id=279:
 kein-training-eiskunstlauf-anlass
END:VEVENT
END:VCALENDAR