BEGIN:VCALENDAR
VERSION:2.0
PRODID:-//49.12.112.25//NONSGML kigkonsult.se iCalcreator 2.20//
CALSCALE:GREGORIAN
METHOD:PUBLISH
X-WR-TIMEZONE:Europe/Berlin
BEGIN:VEVENT
UID:event283@IWB Energy Stars
DTSTAMP:20260421T173613Z
CATEGORIES:Kein Training
DESCRIPTION:KEIN TRAINING Ostersonntag\nCategory: Kein Training\nLink: http
 s://iwb-energy-stars.ch/index.php?option=com_jem&view=event&id=283:kein-tr
 aining-ostersonntag\n
DTSTART;TZID=Europe/Berlin:20220417T193000
DTEND;TZID=Europe/Berlin:20220417T210000
LOCATION:KEIN Training
SUMMARY:KEIN TRAINING Ostersonntag
URL:https://iwb-energy-stars.ch/index.php?option=com_jem&view=event&id=283:
 kein-training-ostersonntag
END:VEVENT
END:VCALENDAR