BEGIN:VCALENDAR
VERSION:2.0
PRODID:-//49.12.112.25//NONSGML kigkonsult.se iCalcreator 2.20//
CALSCALE:GREGORIAN
METHOD:PUBLISH
X-WR-TIMEZONE:Europe/Berlin
BEGIN:VEVENT
UID:event288@IWB Energy Stars
DTSTAMP:20260421T173805Z
CATEGORIES:Training
DESCRIPTION:Saison Ende Plauschspiel\nCategory: Training\nLink: https://iwb
 -energy-stars.ch/index.php?option=com_jem&view=event&id=288:saison-ende-pl
 auschspiel\n
DTSTART;TZID=Europe/Berlin:20220522T193000
DTEND;TZID=Europe/Berlin:20220522T213000
LOCATION:St. Jakob Arena - Basel
SUMMARY:Saison Ende Plauschspiel
URL:https://iwb-energy-stars.ch/index.php?option=com_jem&view=event&id=288:
 saison-ende-plauschspiel
END:VEVENT
END:VCALENDAR