BEGIN:VCALENDAR
VERSION:2.0
PRODID:-//49.12.112.25//NONSGML kigkonsult.se iCalcreator 2.20//
CALSCALE:GREGORIAN
METHOD:PUBLISH
X-WR-TIMEZONE:Europe/Berlin
BEGIN:VEVENT
UID:event290@IWB Energy Stars
DTSTAMP:20260421T173628Z
CATEGORIES:Trainingsweekend
DESCRIPTION:Ersatzweekend Arena Basel\nCategory: Trainingsweekend\nLink: ht
 tps://iwb-energy-stars.ch/index.php?option=com_jem&view=event&id=290:train
 ing-energy-stars\n
DTSTART;TZID=Europe/Berlin:20211023T193000
DTEND;TZID=Europe/Berlin:20211023T213000
LOCATION:St. Jakob Arena - Basel
SUMMARY:Ersatzweekend Arena Basel
URL:https://iwb-energy-stars.ch/index.php?option=com_jem&view=event&id=290:
 training-energy-stars
END:VEVENT
END:VCALENDAR