BEGIN:VCALENDAR
VERSION:2.0
PRODID:-//49.12.112.25//NONSGML kigkonsult.se iCalcreator 2.20//
CALSCALE:GREGORIAN
METHOD:PUBLISH
X-WR-TIMEZONE:Europe/Berlin
BEGIN:VEVENT
UID:event292@IWB Energy Stars
DTSTAMP:20260421T173313Z
CATEGORIES:Trainingsweekend
DESCRIPTION:Weekend Herrischried\nCategory: Trainingsweekend\nLink: https:/
 /iwb-energy-stars.ch/index.php?option=com_jem&view=event&id=292:weekend-he
 rrischried\n
DTSTART;TZID=Europe/Berlin:20221022T100000
DTEND;TZID=Europe/Berlin:20221023T170000
LOCATION:Eishalle Herrischried\,Herrischried / DE
SUMMARY:Weekend Herrischried
URL:https://iwb-energy-stars.ch/index.php?option=com_jem&view=event&id=292:
 weekend-herrischried
END:VEVENT
END:VCALENDAR