BEGIN:VCALENDAR
VERSION:2.0
PRODID:-//49.12.112.25//NONSGML kigkonsult.se iCalcreator 2.20//
CALSCALE:GREGORIAN
METHOD:PUBLISH
X-WR-TIMEZONE:Europe/Berlin
BEGIN:VEVENT
UID:event300@IWB Energy Stars
DTSTAMP:20260421T173946Z
CATEGORIES:Meisterschafts - Spiel
DESCRIPTION:Bebbi Yysbääre : Energy Sars\nCategory: Meisterschafts - Spiel
 \nLink: https://iwb-energy-stars.ch/index.php?option=com_jem&view=event&id
 =300:bebbi-yysbaeaere-energy-sars\n
DTSTART;TZID=Europe/Berlin:20221120T193000
DTEND;TZID=Europe/Berlin:20221120T213000
LOCATION:St. Jakob Arena - Basel
SUMMARY:Bebbi Yysbääre : Energy Sars
URL:https://iwb-energy-stars.ch/index.php?option=com_jem&view=event&id=300:
 bebbi-yysbaeaere-energy-sars
END:VEVENT
END:VCALENDAR