BEGIN:VCALENDAR
VERSION:2.0
PRODID:-//49.12.112.25//NONSGML kigkonsult.se iCalcreator 2.20//
CALSCALE:GREGORIAN
METHOD:PUBLISH
X-WR-TIMEZONE:Europe/Berlin
BEGIN:VEVENT
UID:event30@IWB Energy Stars
DTSTAMP:20260421T205431Z
CATEGORIES:Kein Training
DESCRIPTION:KEIN Training da Messe Monster of Hardcore\nCategory: Kein Trai
 ning\nLink: https://iwb-energy-stars.ch/index.php?option=com_jem&view=even
 t&id=30:kein-training-da-messe-monster-of-hardcore\n
DTSTART;VALUE=DATE:20151122
DTEND;VALUE=DATE:20151123
LOCATION:KEIN Training
SUMMARY:KEIN Training da Messe Monster of Hardcore
URL:https://iwb-energy-stars.ch/index.php?option=com_jem&view=event&id=30:k
 ein-training-da-messe-monster-of-hardcore
END:VEVENT
END:VCALENDAR