BEGIN:VCALENDAR
VERSION:2.0
PRODID:-//49.12.112.25//NONSGML kigkonsult.se iCalcreator 2.20//
CALSCALE:GREGORIAN
METHOD:PUBLISH
X-WR-TIMEZONE:Europe/Berlin
BEGIN:VEVENT
UID:event313@IWB Energy Stars
DTSTAMP:20260421T173634Z
CATEGORIES:Trainingsweekend
DESCRIPTION:Trainingsweekend Herrischried 2023\nCategory: Trainingsweekend
 \nLink: https://iwb-energy-stars.ch/index.php?option=com_jem&view=event&id
 =313:trainingsweekend-herrischried-2023\n
DTSTART;TZID=Europe/Berlin:20231021T103000
DTEND;TZID=Europe/Berlin:20231022T170000
LOCATION:Eishalle Herrischried\,Herrischried / DE
SUMMARY:Trainingsweekend Herrischried 2023
URL:https://iwb-energy-stars.ch/index.php?option=com_jem&view=event&id=313:
 trainingsweekend-herrischried-2023
END:VEVENT
END:VCALENDAR