BEGIN:VCALENDAR
VERSION:2.0
PRODID:-//49.12.112.25//NONSGML kigkonsult.se iCalcreator 2.20//
CALSCALE:GREGORIAN
METHOD:PUBLISH
X-WR-TIMEZONE:Europe/Berlin
BEGIN:VEVENT
UID:event316@IWB Energy Stars
DTSTAMP:20260421T173801Z
CATEGORIES:Training noch nicht definitive
DESCRIPTION:Training Energy Stars\nCategory: Training noch nicht definitive
 \nLink: https://iwb-energy-stars.ch/index.php?option=com_jem&view=event&id
 =316:training-energy-stars\n
DTSTART;TZID=Europe/Berlin:20230312T193000
DTEND;TZID=Europe/Berlin:20230312T210000
LOCATION:St. Jakob Arena - Basel
SUMMARY:Training Energy Stars
URL:https://iwb-energy-stars.ch/index.php?option=com_jem&view=event&id=316:
 training-energy-stars
END:VEVENT
END:VCALENDAR