BEGIN:VCALENDAR
VERSION:2.0
PRODID:-//49.12.112.25//NONSGML kigkonsult.se iCalcreator 2.20//
CALSCALE:GREGORIAN
METHOD:PUBLISH
X-WR-TIMEZONE:Europe/Berlin
BEGIN:VEVENT
UID:event31@IWB Energy Stars
DTSTAMP:20260421T191358Z
CATEGORIES:Kein Training
DESCRIPTION:KEIN TRAINING da Extasia Messe\nCategory: Kein Training\nLink: 
 https://iwb-energy-stars.ch/index.php?option=com_jem&view=event&id=31:kein
 -training-da-extasia-messe\n
DTSTART;VALUE=DATE:20151129
DTEND;VALUE=DATE:20151130
LOCATION:KEIN Training
SUMMARY:KEIN TRAINING da Extasia Messe
URL:https://iwb-energy-stars.ch/index.php?option=com_jem&view=event&id=31:k
 ein-training-da-extasia-messe
END:VEVENT
END:VCALENDAR