BEGIN:VCALENDAR
VERSION:2.0
PRODID:-//49.12.112.25//NONSGML kigkonsult.se iCalcreator 2.20//
CALSCALE:GREGORIAN
METHOD:PUBLISH
X-WR-TIMEZONE:Europe/Berlin
BEGIN:VEVENT
UID:event32@IWB Energy Stars
DTSTAMP:20260421T191327Z
CATEGORIES:Freundschafts-Spiel
DESCRIPTION:Freundschaftsspiel Swiss Tigers  Sissach\nCategory: Freundschaf
 ts-Spiel\nLink: https://iwb-energy-stars.ch/index.php?option=com_jem&view=
 event&id=32:freundschafts-spiel\n
DTSTART;TZID=Europe/Berlin:20151206T201500
DTEND;TZID=Europe/Berlin:20151206T221500
LOCATION:Kunsteisbahn Sissach\,Renggenweg 12\,4450 Sissach
SUMMARY:Freundschaftsspiel Swiss Tigers  Sissach
URL:https://iwb-energy-stars.ch/index.php?option=com_jem&view=event&id=32:f
 reundschafts-spiel
END:VEVENT
END:VCALENDAR