BEGIN:VCALENDAR
VERSION:2.0
PRODID:-//49.12.112.25//NONSGML kigkonsult.se iCalcreator 2.20//
CALSCALE:GREGORIAN
METHOD:PUBLISH
X-WR-TIMEZONE:Europe/Berlin
BEGIN:VEVENT
UID:event338@IWB Energy Stars
DTSTAMP:20260421T173706Z
CATEGORIES:Meisterschafts - Spiel
DESCRIPTION:Blaulicht Selection : IWB Energy Stars\nCategory: Meisterschaft
 s - Spiel\nLink: https://iwb-energy-stars.ch/index.php?option=com_jem&view
 =event&id=338:training-energy-stars\n
DTSTART;TZID=Europe/Berlin:20240107T190000
DTEND;TZID=Europe/Berlin:20240107T210000
LOCATION:St. Jakob Arena - Basel
SUMMARY:Blaulicht Selection : IWB Energy Stars
URL:https://iwb-energy-stars.ch/index.php?option=com_jem&view=event&id=338:
 training-energy-stars
END:VEVENT
END:VCALENDAR