BEGIN:VCALENDAR
VERSION:2.0
PRODID:-//49.12.112.25//NONSGML kigkonsult.se iCalcreator 2.20//
CALSCALE:GREGORIAN
METHOD:PUBLISH
X-WR-TIMEZONE:Europe/Berlin
BEGIN:VEVENT
UID:event339@IWB Energy Stars
DTSTAMP:20260421T173705Z
CATEGORIES:Freundschafts-Spiel
DESCRIPTION:IWB Energy Stars : Flyers Olten\nCategory: Freundschafts-Spiel
 \nLink: https://iwb-energy-stars.ch/index.php?option=com_jem&view=event&id
 =339:training-energy-stars\n
DTSTART;TZID=Europe/Berlin:20240114T193000
DTEND;TZID=Europe/Berlin:20240114T213000
LOCATION:St. Jakob Arena - Basel
SUMMARY:IWB Energy Stars : Flyers Olten
URL:https://iwb-energy-stars.ch/index.php?option=com_jem&view=event&id=339:
 training-energy-stars
END:VEVENT
END:VCALENDAR