BEGIN:VCALENDAR
VERSION:2.0
PRODID:-//49.12.112.25//NONSGML kigkonsult.se iCalcreator 2.20//
CALSCALE:GREGORIAN
METHOD:PUBLISH
X-WR-TIMEZONE:Europe/Berlin
BEGIN:VEVENT
UID:event340@IWB Energy Stars
DTSTAMP:20260421T173634Z
CATEGORIES:Meisterschafts - Spiel
DESCRIPTION:IWB Energy Stars : Losers\nCategory: Meisterschafts - Spiel\nLi
 nk: https://iwb-energy-stars.ch/index.php?option=com_jem&view=event&id=340
 :training-energy-stars\n
DTSTART;TZID=Europe/Berlin:20240121T194500
DTEND;TZID=Europe/Berlin:20240121T214500
LOCATION:St. Jakob Arena - Basel
SUMMARY:IWB Energy Stars : Losers
URL:https://iwb-energy-stars.ch/index.php?option=com_jem&view=event&id=340:
 training-energy-stars
END:VEVENT
END:VCALENDAR