BEGIN:VCALENDAR
VERSION:2.0
PRODID:-//49.12.112.25//NONSGML kigkonsult.se iCalcreator 2.20//
CALSCALE:GREGORIAN
METHOD:PUBLISH
X-WR-TIMEZONE:Europe/Berlin
BEGIN:VEVENT
UID:event344@IWB Energy Stars
DTSTAMP:20260421T173627Z
CATEGORIES:Training
DESCRIPTION:Training fällt aus!!!\nCategory: Training\nLink: https://iwb-en
 ergy-stars.ch/index.php?option=com_jem&view=event&id=344:training-energy-s
 tars\n
DTSTART;TZID=Europe/Berlin:20240218T194500
DTEND;TZID=Europe/Berlin:20240218T211500
LOCATION:St. Jakob Arena - Basel
SUMMARY:Training fällt aus!!!
URL:https://iwb-energy-stars.ch/index.php?option=com_jem&view=event&id=344:
 training-energy-stars
END:VEVENT
END:VCALENDAR