BEGIN:VCALENDAR
VERSION:2.0
PRODID:-//49.12.112.25//NONSGML kigkonsult.se iCalcreator 2.20//
CALSCALE:GREGORIAN
METHOD:PUBLISH
X-WR-TIMEZONE:Europe/Berlin
BEGIN:VEVENT
UID:event346@IWB Energy Stars
DTSTAMP:20260421T173628Z
CATEGORIES:Freundschafts-Spiel
DESCRIPTION:EHC Roche : IWB Energy Stars\nCategory: Freundschafts-Spiel\nLi
 nk: https://iwb-energy-stars.ch/index.php?option=com_jem&view=event&id=346
 :training-energy-stars\n
DTSTART;TZID=Europe/Berlin:20240303T140000
DTEND;TZID=Europe/Berlin:20240303T160000
LOCATION:St. Jakob Arena - Basel
SUMMARY:EHC Roche : IWB Energy Stars
URL:https://iwb-energy-stars.ch/index.php?option=com_jem&view=event&id=346:
 training-energy-stars
END:VEVENT
END:VCALENDAR