BEGIN:VCALENDAR
VERSION:2.0
PRODID:-//49.12.112.25//NONSGML kigkonsult.se iCalcreator 2.20//
CALSCALE:GREGORIAN
METHOD:PUBLISH
X-WR-TIMEZONE:Europe/Berlin
BEGIN:VEVENT
UID:event349@IWB Energy Stars
DTSTAMP:20260421T191356Z
CATEGORIES:Freundschafts-Spiel
DESCRIPTION:IWB Energy Stars : EHC Roche\nCategory: Freundschafts-Spiel\nLi
 nk: https://iwb-energy-stars.ch/index.php?option=com_jem&view=event&id=349
 :training-energy-stars\n
DTSTART;TZID=Europe/Berlin:20240324T193000
DTEND;TZID=Europe/Berlin:20240324T213000
LOCATION:St. Jakob Arena - Basel
SUMMARY:IWB Energy Stars : EHC Roche
URL:https://iwb-energy-stars.ch/index.php?option=com_jem&view=event&id=349:
 training-energy-stars
END:VEVENT
END:VCALENDAR