BEGIN:VCALENDAR
VERSION:2.0
PRODID:-//49.12.112.25//NONSGML kigkonsult.se iCalcreator 2.20//
CALSCALE:GREGORIAN
METHOD:PUBLISH
X-WR-TIMEZONE:Europe/Berlin
BEGIN:VEVENT
UID:event351@IWB Energy Stars
DTSTAMP:20260421T183747Z
CATEGORIES:Kein Training
DESCRIPTION:Training fällt aus!!!\nCategory: Kein Training\nLink: https://i
 wb-energy-stars.ch/index.php?option=com_jem&view=event&id=351:training-ene
 rgy-stars\n
DTSTART;TZID=Europe/Berlin:20240414T193000
DTEND;TZID=Europe/Berlin:20240414T210000
LOCATION:St. Jakob Arena - Basel
SUMMARY:Training fällt aus!!!
URL:https://iwb-energy-stars.ch/index.php?option=com_jem&view=event&id=351:
 training-energy-stars
END:VEVENT
END:VCALENDAR