BEGIN:VCALENDAR
VERSION:2.0
PRODID:-//49.12.112.25//NONSGML kigkonsult.se iCalcreator 2.20//
CALSCALE:GREGORIAN
METHOD:PUBLISH
X-WR-TIMEZONE:Europe/Berlin
BEGIN:VEVENT
UID:event352@IWB Energy Stars
DTSTAMP:20260421T173629Z
CATEGORIES:Meisterschafts - Spiel
DESCRIPTION:Halbfinal - Blaulicht Selection : IWB Energy Stars\nCategory: M
 eisterschafts - Spiel\nLink: https://iwb-energy-stars.ch/index.php?option=
 com_jem&view=event&id=352:training-energy-stars\n
DTSTART;TZID=Europe/Berlin:20240421T173000
DTEND;TZID=Europe/Berlin:20240421T190000
LOCATION:St. Jakob Arena - Basel
SUMMARY:Halbfinal - Blaulicht Selection : IWB Energy Stars
URL:https://iwb-energy-stars.ch/index.php?option=com_jem&view=event&id=352:
 training-energy-stars
END:VEVENT
END:VCALENDAR