BEGIN:VCALENDAR
VERSION:2.0
PRODID:-//49.12.112.25//NONSGML kigkonsult.se iCalcreator 2.20//
CALSCALE:GREGORIAN
METHOD:PUBLISH
X-WR-TIMEZONE:Europe/Berlin
BEGIN:VEVENT
UID:event354@IWB Energy Stars
DTSTAMP:20260421T191500Z
CATEGORIES:Playoff-Final
DESCRIPTION:BHL Final: Hawaiians vs. Energy Stars\nCategory: Playoff-Final
 \nLink: https://iwb-energy-stars.ch/index.php?option=com_jem&view=event&id
 =354:training-energy-stars\n
DTSTART;TZID=Europe/Berlin:20240505T143000
DTEND;TZID=Europe/Berlin:20240505T163000
LOCATION:St. Jakob Arena - Basel
SUMMARY:BHL Final: Hawaiians vs. Energy Stars
URL:https://iwb-energy-stars.ch/index.php?option=com_jem&view=event&id=354:
 training-energy-stars
END:VEVENT
END:VCALENDAR