BEGIN:VCALENDAR
VERSION:2.0
PRODID:-//49.12.112.25//NONSGML kigkonsult.se iCalcreator 2.20//
CALSCALE:GREGORIAN
METHOD:PUBLISH
X-WR-TIMEZONE:Europe/Berlin
BEGIN:VEVENT
UID:event357@IWB Energy Stars
DTSTAMP:20260421T173334Z
CATEGORIES:Saison Abschluss Plausch Spiel
DESCRIPTION:Saison End Spiel\nCategory: Saison Abschluss Plausch Spiel\nLin
 k: https://iwb-energy-stars.ch/index.php?option=com_jem&view=event&id=357:
 saison-end-spiel\n
DTSTART;TZID=Europe/Berlin:20240526T193000
DTEND;TZID=Europe/Berlin:20240526T213000
LOCATION:St. Jakob Arena - Basel
SUMMARY:Saison End Spiel
URL:https://iwb-energy-stars.ch/index.php?option=com_jem&view=event&id=357:
 saison-end-spiel
END:VEVENT
END:VCALENDAR