BEGIN:VCALENDAR
VERSION:2.0
PRODID:-//49.12.112.25//NONSGML kigkonsult.se iCalcreator 2.20//
CALSCALE:GREGORIAN
METHOD:PUBLISH
X-WR-TIMEZONE:Europe/Berlin
BEGIN:VEVENT
UID:event370@IWB Energy Stars
DTSTAMP:20260421T191333Z
CATEGORIES:Freundschafts-Spiel
DESCRIPTION:IWB Energy Stars : ECP Olten\nCategory: Freundschafts-Spiel\nLi
 nk: https://iwb-energy-stars.ch/index.php?option=com_jem&view=event&id=370
 :training-energy-stars\n
DTSTART;TZID=Europe/Berlin:20241201T190000
DTEND;TZID=Europe/Berlin:20241201T210000
LOCATION:St. Jakob Arena - Basel
SUMMARY:IWB Energy Stars : ECP Olten
URL:https://iwb-energy-stars.ch/index.php?option=com_jem&view=event&id=370:
 training-energy-stars
END:VEVENT
END:VCALENDAR