BEGIN:VCALENDAR
VERSION:2.0
PRODID:-//49.12.112.25//NONSGML kigkonsult.se iCalcreator 2.20//
CALSCALE:GREGORIAN
METHOD:PUBLISH
X-WR-TIMEZONE:Europe/Berlin
BEGIN:VEVENT
UID:event376@IWB Energy Stars
DTSTAMP:20260421T155902Z
CATEGORIES:Freundschafts-Spiel
DESCRIPTION:ECP Olten : Energy Stars (Auswärts)\nCategory: Freundschafts-Sp
 iel\nLink: https://iwb-energy-stars.ch/index.php?option=com_jem&view=event
 &id=376:training-energy-stars\n
DTSTART;TZID=Europe/Berlin:20250112T191500
DTEND;TZID=Europe/Berlin:20250112T211500
LOCATION:Gemäss Einladung
SUMMARY:ECP Olten : Energy Stars (Auswärts)
URL:https://iwb-energy-stars.ch/index.php?option=com_jem&view=event&id=376:
 training-energy-stars
END:VEVENT
END:VCALENDAR