BEGIN:VCALENDAR
VERSION:2.0
PRODID:-//49.12.112.25//NONSGML kigkonsult.se iCalcreator 2.20//
CALSCALE:GREGORIAN
METHOD:PUBLISH
X-WR-TIMEZONE:Europe/Berlin
BEGIN:VEVENT
UID:event379@IWB Energy Stars
DTSTAMP:20260421T155938Z
CATEGORIES:Meisterschafts - Spiel
DESCRIPTION:Spiel - Training Energy Stars : Losers\nCategory: Meisterschaft
 s - Spiel\nLink: https://iwb-energy-stars.ch/index.php?option=com_jem&view
 =event&id=379:training-energy-stars\n
DTSTART;TZID=Europe/Berlin:20250202T194500
DTEND;TZID=Europe/Berlin:20250202T211500
LOCATION:St. Jakob Arena - Basel
SUMMARY:Spiel - Training Energy Stars : Losers
URL:https://iwb-energy-stars.ch/index.php?option=com_jem&view=event&id=379:
 training-energy-stars
END:VEVENT
END:VCALENDAR