BEGIN:VCALENDAR
VERSION:2.0
PRODID:-//49.12.112.25//NONSGML kigkonsult.se iCalcreator 2.20//
CALSCALE:GREGORIAN
METHOD:PUBLISH
X-WR-TIMEZONE:Europe/Berlin
BEGIN:VEVENT
UID:event37@IWB Energy Stars
DTSTAMP:20260421T191726Z
CATEGORIES:Meisterschafts - Spiel
DESCRIPTION:Eagls Freiburg : Energy Stars\nCategory: Meisterschafts - Spiel
 \nLink: https://iwb-energy-stars.ch/index.php?option=com_jem&view=event&id
 =37:eagls-freiburg-energy-stars\n
DTSTART;TZID=Europe/Berlin:20160110T193000
DTEND;TZID=Europe/Berlin:20160110T213000
LOCATION:St. Jakob Arena - Basel
SUMMARY:Eagls Freiburg : Energy Stars
URL:https://iwb-energy-stars.ch/index.php?option=com_jem&view=event&id=37:e
 agls-freiburg-energy-stars
END:VEVENT
END:VCALENDAR