BEGIN:VCALENDAR
VERSION:2.0
PRODID:-//49.12.112.25//NONSGML kigkonsult.se iCalcreator 2.20//
CALSCALE:GREGORIAN
METHOD:PUBLISH
X-WR-TIMEZONE:Europe/Berlin
BEGIN:VEVENT
UID:event380@IWB Energy Stars
DTSTAMP:20260421T155938Z
CATEGORIES:Meisterschafts - Spiel
DESCRIPTION:Spiel - Blaulicht Selection : Training Energy Stars\nCategory: 
 Meisterschafts - Spiel\nLink: https://iwb-energy-stars.ch/index.php?option
 =com_jem&view=event&id=380:training-energy-stars\n
DTSTART;TZID=Europe/Berlin:20250209T193000
DTEND;TZID=Europe/Berlin:20250209T210000
LOCATION:St. Jakob Arena - Basel
SUMMARY:Spiel - Blaulicht Selection : Training Energy Stars
URL:https://iwb-energy-stars.ch/index.php?option=com_jem&view=event&id=380:
 training-energy-stars
END:VEVENT
END:VCALENDAR