BEGIN:VCALENDAR
VERSION:2.0
PRODID:-//49.12.112.25//NONSGML kigkonsult.se iCalcreator 2.20//
CALSCALE:GREGORIAN
METHOD:PUBLISH
X-WR-TIMEZONE:Europe/Berlin
BEGIN:VEVENT
UID:event394@IWB Energy Stars
DTSTAMP:20260421T155939Z
CATEGORIES:Kein Training
DESCRIPTION:Kein Training\nCategory: Kein Training\nLink: https://iwb-energ
 y-stars.ch/index.php?option=com_jem&view=event&id=394:training-energy-star
 s\n
DTSTART;TZID=Europe/Berlin:20250518T193000
DTEND;TZID=Europe/Berlin:20250518T210000
LOCATION:St. Jakob Arena - Basel
SUMMARY:Kein Training
URL:https://iwb-energy-stars.ch/index.php?option=com_jem&view=event&id=394:
 training-energy-stars
END:VEVENT
END:VCALENDAR