BEGIN:VCALENDAR
VERSION:2.0
PRODID:-//49.12.112.25//NONSGML kigkonsult.se iCalcreator 2.20//
CALSCALE:GREGORIAN
METHOD:PUBLISH
X-WR-TIMEZONE:Europe/Berlin
BEGIN:VEVENT
UID:event39@IWB Energy Stars
DTSTAMP:20260421T205458Z
CATEGORIES:Meisterschafts - Spiel
DESCRIPTION:Losers II  : Energy Stars\nCategory: Meisterschafts - Spiel\nLi
 nk: https://iwb-energy-stars.ch/index.php?option=com_jem&view=event&id=39:
 losers-ii-energy-stars\n
DTSTART;TZID=Europe/Berlin:20160124T193000
DTEND;TZID=Europe/Berlin:20160124T213000
LOCATION:St. Jakob Arena - Basel
SUMMARY:Losers II  : Energy Stars
URL:https://iwb-energy-stars.ch/index.php?option=com_jem&view=event&id=39:l
 osers-ii-energy-stars
END:VEVENT
END:VCALENDAR