BEGIN:VCALENDAR
VERSION:2.0
PRODID:-//49.12.112.25//NONSGML kigkonsult.se iCalcreator 2.20//
CALSCALE:GREGORIAN
METHOD:PUBLISH
X-WR-TIMEZONE:Europe/Berlin
BEGIN:VEVENT
UID:event401@IWB Energy Stars
DTSTAMP:20260421T155532Z
CATEGORIES:Meisterschafts - Spiel
DESCRIPTION:IWB Energy Stars : EHC Binningen II\nCategory: Meisterschafts -
  Spiel\nLink: https://iwb-energy-stars.ch/index.php?option=com_jem&view=ev
 ent&id=401:game\n
DTSTART;TZID=Europe/Berlin:20251116T194500
DTEND;TZID=Europe/Berlin:20251116T211500
LOCATION:St. Jakob Arena - Basel
SUMMARY:IWB Energy Stars : EHC Binningen II
URL:https://iwb-energy-stars.ch/index.php?option=com_jem&view=event&id=401:
 game
END:VEVENT
END:VCALENDAR