BEGIN:VCALENDAR
VERSION:2.0
PRODID:-//49.12.112.25//NONSGML kigkonsult.se iCalcreator 2.20//
CALSCALE:GREGORIAN
METHOD:PUBLISH
X-WR-TIMEZONE:Europe/Berlin
BEGIN:VEVENT
UID:event406@IWB Energy Stars
DTSTAMP:20260421T155559Z
CATEGORIES:Training
DESCRIPTION:Training\nCategory: Training\nLink: https://iwb-energy-stars.ch
 /index.php?option=com_jem&view=event&id=406:no-training\n
DTSTART;TZID=Europe/Berlin:20251221T194500
DTEND;TZID=Europe/Berlin:20251221T210000
LOCATION:St. Jakob Arena - Basel
SUMMARY:Training
URL:https://iwb-energy-stars.ch/index.php?option=com_jem&view=event&id=406:
 no-training
END:VEVENT
END:VCALENDAR