BEGIN:VCALENDAR
VERSION:2.0
PRODID:-//49.12.112.25//NONSGML kigkonsult.se iCalcreator 2.20//
CALSCALE:GREGORIAN
METHOD:PUBLISH
X-WR-TIMEZONE:Europe/Berlin
BEGIN:VEVENT
UID:event40@IWB Energy Stars
DTSTAMP:20260421T191926Z
CATEGORIES:Meisterschafts - Spiel
DESCRIPTION:Herrischried II : Energy Stars \nCategory: Meisterschafts - Spi
 el\nLink: https://iwb-energy-stars.ch/index.php?option=com_jem&view=event&
 id=40:herrischried-ii-energy-stars\n
DTSTART;TZID=Europe/Berlin:20160131T180000
DTEND;TZID=Europe/Berlin:20160131T200000
LOCATION:Eishalle Herrischried\,Herrischried / DE
SUMMARY:Herrischried II : Energy Stars 
URL:https://iwb-energy-stars.ch/index.php?option=com_jem&view=event&id=40:h
 errischried-ii-energy-stars
END:VEVENT
END:VCALENDAR