BEGIN:VCALENDAR
VERSION:2.0
PRODID:-//49.12.112.25//NONSGML kigkonsult.se iCalcreator 2.20//
CALSCALE:GREGORIAN
METHOD:PUBLISH
X-WR-TIMEZONE:Europe/Berlin
BEGIN:VEVENT
UID:event412@IWB Energy Stars
DTSTAMP:20260421T155533Z
CATEGORIES:Meisterschafts - Spiel
DESCRIPTION:Blaulicht Selection : IWB Energy Stars\nCategory: Meisterschaft
 s - Spiel\nLink: https://iwb-energy-stars.ch/index.php?option=com_jem&view
 =event&id=412:game\n
DTSTART;TZID=Europe/Berlin:20260207T170000
DTEND;TZID=Europe/Berlin:20260207T190000
LOCATION:Ort folgt
SUMMARY:Blaulicht Selection : IWB Energy Stars
URL:https://iwb-energy-stars.ch/index.php?option=com_jem&view=event&id=412:
 game
END:VEVENT
END:VCALENDAR