BEGIN:VCALENDAR
VERSION:2.0
PRODID:-//49.12.112.25//NONSGML kigkonsult.se iCalcreator 2.20//
CALSCALE:GREGORIAN
METHOD:PUBLISH
X-WR-TIMEZONE:Europe/Berlin
BEGIN:VEVENT
UID:event417@IWB Energy Stars
DTSTAMP:20260421T155651Z
CATEGORIES:Meisterschafts - Spiel
DESCRIPTION:IWB Energy Stars : EHC Olten Flyers\nCategory: Meisterschafts -
  Spiel\nLink: https://iwb-energy-stars.ch/index.php?option=com_jem&view=ev
 ent&id=417:game\n
DTSTART;TZID=Europe/Berlin:20260315T190000
DTEND;TZID=Europe/Berlin:20260315T210000
LOCATION:St. Jakob Arena - Basel
SUMMARY:IWB Energy Stars : EHC Olten Flyers
URL:https://iwb-energy-stars.ch/index.php?option=com_jem&view=event&id=417:
 game
END:VEVENT
END:VCALENDAR