BEGIN:VCALENDAR
VERSION:2.0
PRODID:-//49.12.112.25//NONSGML kigkonsult.se iCalcreator 2.20//
CALSCALE:GREGORIAN
METHOD:PUBLISH
X-WR-TIMEZONE:Europe/Berlin
BEGIN:VEVENT
UID:event419@IWB Energy Stars
DTSTAMP:20260421T155559Z
CATEGORIES:Kein Training
DESCRIPTION:Kein Training\nCategory: Kein Training\nLink: https://iwb-energ
 y-stars.ch/index.php?option=com_jem&view=event&id=419:no-training\n
DTSTART;TZID=Europe/Berlin:20260322T194500
DTEND;TZID=Europe/Berlin:20260322T210000
LOCATION:St. Jakob Arena - Basel
SUMMARY:Kein Training
URL:https://iwb-energy-stars.ch/index.php?option=com_jem&view=event&id=419:
 no-training
END:VEVENT
END:VCALENDAR