BEGIN:VCALENDAR
VERSION:2.0
PRODID:-//49.12.112.25//NONSGML kigkonsult.se iCalcreator 2.20//
CALSCALE:GREGORIAN
METHOD:PUBLISH
X-WR-TIMEZONE:Europe/Berlin
BEGIN:VEVENT
UID:event43@IWB Energy Stars
DTSTAMP:20260421T205856Z
CATEGORIES:Meisterschafts - Spiel
DESCRIPTION:Energy Stars : Wild Boars\nCategory: Meisterschafts - Spiel\nLi
 nk: https://iwb-energy-stars.ch/index.php?option=com_jem&view=event&id=43:
 energy-stars-wild-boars\n
DTSTART;TZID=Europe/Berlin:20160221T193000
DTEND;TZID=Europe/Berlin:20160221T213000
LOCATION:St. Jakob Arena - Basel
SUMMARY:Energy Stars : Wild Boars
URL:https://iwb-energy-stars.ch/index.php?option=com_jem&view=event&id=43:e
 nergy-stars-wild-boars
END:VEVENT
END:VCALENDAR