BEGIN:VCALENDAR
VERSION:2.0
PRODID:-//49.12.112.25//NONSGML kigkonsult.se iCalcreator 2.20//
CALSCALE:GREGORIAN
METHOD:PUBLISH
X-WR-TIMEZONE:Europe/Berlin
BEGIN:VEVENT
UID:event47@IWB Energy Stars
DTSTAMP:20260421T210526Z
CATEGORIES:Meisterschafts - Spiel
DESCRIPTION:Team-Sbornaja : IWB Energy-Stars\nCategory: Meisterschafts - Sp
 iel\nLink: https://iwb-energy-stars.ch/index.php?option=com_jem&view=event
 &id=47:team-sbornaja-iwb-energy-stars\n
DTSTART;TZID=Europe/Berlin:20160320T193000
DTEND;TZID=Europe/Berlin:20160320T213000
LOCATION:St. Jakob Arena - Basel
SUMMARY:Team-Sbornaja : IWB Energy-Stars
URL:https://iwb-energy-stars.ch/index.php?option=com_jem&view=event&id=47:t
 eam-sbornaja-iwb-energy-stars
END:VEVENT
END:VCALENDAR