BEGIN:VCALENDAR
VERSION:2.0
PRODID:-//49.12.112.25//NONSGML kigkonsult.se iCalcreator 2.20//
CALSCALE:GREGORIAN
METHOD:PUBLISH
X-WR-TIMEZONE:Europe/Berlin
BEGIN:VEVENT
UID:event51@IWB Energy Stars
DTSTAMP:20260421T173800Z
CATEGORIES:Playoff-Spiel
DESCRIPTION:1/2 Finals Playoff Spiel Energy Stars : Wild Boars\nCategory: P
 layoff-Spiel\nLink: https://iwb-energy-stars.ch/index.php?option=com_jem&v
 iew=event&id=51:1-2-finals-playoff-spiel\n
DTSTART;TZID=Europe/Berlin:20160417T150000
DTEND;TZID=Europe/Berlin:20160417T170000
LOCATION:St. Jakob Arena - Basel
SUMMARY:1/2 Finals Playoff Spiel Energy Stars : Wild Boars
URL:https://iwb-energy-stars.ch/index.php?option=com_jem&view=event&id=51:1
 -2-finals-playoff-spiel
END:VEVENT
END:VCALENDAR