BEGIN:VCALENDAR
VERSION:2.0
PRODID:-//49.12.112.25//NONSGML kigkonsult.se iCalcreator 2.20//
CALSCALE:GREGORIAN
METHOD:PUBLISH
X-WR-TIMEZONE:Europe/Berlin
BEGIN:VEVENT
UID:event53@IWB Energy Stars
DTSTAMP:20260421T173635Z
CATEGORIES:Kein Training
DESCRIPTION:KEIN TRAINING DA TAG DER ARBEIT\nCategory: Kein Training\nLink:
  https://iwb-energy-stars.ch/index.php?option=com_jem&view=event&id=53:kei
 n-training-da-tag-der-arbeit\n
DTSTART;VALUE=DATE:20160501
DTEND;VALUE=DATE:20160502
LOCATION:KEIN Training
SUMMARY:KEIN TRAINING DA TAG DER ARBEIT
URL:https://iwb-energy-stars.ch/index.php?option=com_jem&view=event&id=53:k
 ein-training-da-tag-der-arbeit
END:VEVENT
END:VCALENDAR