BEGIN:VCALENDAR
VERSION:2.0
PRODID:-//49.12.112.25//NONSGML kigkonsult.se iCalcreator 2.20//
CALSCALE:GREGORIAN
METHOD:PUBLISH
X-WR-TIMEZONE:Europe/Berlin
BEGIN:VEVENT
UID:event55@IWB Energy Stars
DTSTAMP:20260421T175623Z
CATEGORIES:Kein Training
DESCRIPTION:KEIN Training da Pfingstsonntag\nCategory: Kein Training\nLink:
  https://iwb-energy-stars.ch/index.php?option=com_jem&view=event&id=55:kei
 n-training-da-pfingstsonntag\n
DTSTART;TZID=Europe/Berlin:20160515T193000
DTEND;TZID=Europe/Berlin:20160515T210000
LOCATION:KEIN Training
SUMMARY:KEIN Training da Pfingstsonntag
URL:https://iwb-energy-stars.ch/index.php?option=com_jem&view=event&id=55:k
 ein-training-da-pfingstsonntag
END:VEVENT
END:VCALENDAR