BEGIN:VCALENDAR
VERSION:2.0
PRODID:-//49.12.112.25//NONSGML kigkonsult.se iCalcreator 2.20//
CALSCALE:GREGORIAN
METHOD:PUBLISH
X-WR-TIMEZONE:Europe/Berlin
BEGIN:VEVENT
UID:event57@IWB Energy Stars
DTSTAMP:20260421T173509Z
CATEGORIES:Training
DESCRIPTION:LETZTES TRAINING\, SAISON-ENDE. Dauer 2 Stunden :-)\nCategory: 
 Training\nLink: https://iwb-energy-stars.ch/index.php?option=com_jem&view=
 event&id=57:letztes-training-saison-ende\n
DTSTART;TZID=Europe/Berlin:20160529T193000
DTEND;TZID=Europe/Berlin:20160529T213000
LOCATION:St. Jakob Arena - Basel
SUMMARY:LETZTES TRAINING\, SAISON-ENDE. Dauer 2 Stunden :-)
URL:https://iwb-energy-stars.ch/index.php?option=com_jem&view=event&id=57:l
 etztes-training-saison-ende
END:VEVENT
END:VCALENDAR