BEGIN:VCALENDAR
VERSION:2.0
PRODID:-//49.12.112.25//NONSGML kigkonsult.se iCalcreator 2.20//
CALSCALE:GREGORIAN
METHOD:PUBLISH
X-WR-TIMEZONE:Europe/Berlin
BEGIN:VEVENT
UID:event58@IWB Energy Stars
DTSTAMP:20260421T191458Z
CATEGORIES:Freundschafts-Spiel
DESCRIPTION:Binningen Eagles : Energy Stars\nCategory: Freundschafts-Spiel
 \nLink: https://iwb-energy-stars.ch/index.php?option=com_jem&view=event&id
 =58:binningen-eagles-energy-stars\n
DTSTART;TZID=Europe/Berlin:20151107T141500
DTEND;TZID=Europe/Berlin:20151107T161500
LOCATION:Kunsteisbahn Margarethen
SUMMARY:Binningen Eagles : Energy Stars
URL:https://iwb-energy-stars.ch/index.php?option=com_jem&view=event&id=58:b
 inningen-eagles-energy-stars
END:VEVENT
END:VCALENDAR