BEGIN:VCALENDAR
VERSION:2.0
PRODID:-//49.12.112.25//NONSGML kigkonsult.se iCalcreator 2.20//
CALSCALE:GREGORIAN
METHOD:PUBLISH
X-WR-TIMEZONE:Europe/Berlin
BEGIN:VEVENT
UID:event59@IWB Energy Stars
DTSTAMP:20260421T205458Z
CATEGORIES:Freundschafts-Spiel
DESCRIPTION:Binningen Senioren : IWB Energy Stars\nCategory: Freundschafts-
 Spiel\nLink: https://iwb-energy-stars.ch/index.php?option=com_jem&view=eve
 nt&id=59:binningen-senioren-iwb-energy-stars\n
DTSTART;TZID=Europe/Berlin:20160123T194500
DTEND;TZID=Europe/Berlin:20160123T214500
LOCATION:Kunsteisbahn Margarethen
SUMMARY:Binningen Senioren : IWB Energy Stars
URL:https://iwb-energy-stars.ch/index.php?option=com_jem&view=event&id=59:b
 inningen-senioren-iwb-energy-stars
END:VEVENT
END:VCALENDAR