BEGIN:VCALENDAR
VERSION:2.0
PRODID:-//49.12.112.25//NONSGML kigkonsult.se iCalcreator 2.20//
CALSCALE:GREGORIAN
METHOD:PUBLISH
X-WR-TIMEZONE:Europe/Berlin
BEGIN:VEVENT
UID:event61@IWB Energy Stars
DTSTAMP:20260421T192745Z
CATEGORIES:GV Generalversammlung
DESCRIPTION:Generalversammlung Sportclub IWB\nCategory: GV Generalversammlu
 ng\nLink: https://iwb-energy-stars.ch/index.php?option=com_jem&view=event&
 id=61:generalversammlung-sportclub-iwb\n
DTSTART;TZID=Europe/Berlin:20160613T190000
DTEND;TZID=Europe/Berlin:20160613T203000
LOCATION:Margarethenstrasse 40\, Basel
SUMMARY:Generalversammlung Sportclub IWB
URL:https://iwb-energy-stars.ch/index.php?option=com_jem&view=event&id=61:g
 eneralversammlung-sportclub-iwb
END:VEVENT
END:VCALENDAR