BEGIN:VCALENDAR
VERSION:2.0
PRODID:-//49.12.112.25//NONSGML kigkonsult.se iCalcreator 2.20//
CALSCALE:GREGORIAN
METHOD:PUBLISH
X-WR-TIMEZONE:Europe/Berlin
BEGIN:VEVENT
UID:event62@IWB Energy Stars
DTSTAMP:20260421T173156Z
CATEGORIES:Training
DESCRIPTION:Saisonstart 16 / 17 \, erstes Training\nCategory: Training\nLin
 k: https://iwb-energy-stars.ch/index.php?option=com_jem&view=event&id=62:s
 aisonstart-16-17-training\n
DTSTART;TZID=Europe/Berlin:20160925T193000
DTEND;TZID=Europe/Berlin:20160925T210000
LOCATION:St. Jakob Arena - Basel
SUMMARY:Saisonstart 16 / 17 \, erstes Training
URL:https://iwb-energy-stars.ch/index.php?option=com_jem&view=event&id=62:s
 aisonstart-16-17-training
END:VEVENT
END:VCALENDAR