BEGIN:VCALENDAR
VERSION:2.0
PRODID:-//49.12.112.25//NONSGML kigkonsult.se iCalcreator 2.20//
CALSCALE:GREGORIAN
METHOD:PUBLISH
X-WR-TIMEZONE:Europe/Berlin
BEGIN:VEVENT
UID:event6@IWB Energy Stars
DTSTAMP:20260421T191307Z
CATEGORIES:Training
DESCRIPTION:Training Energy Stars\nCategory: Training\nLink: https://iwb-en
 ergy-stars.ch/index.php?option=com_jem&view=event&id=6:training-energy-sta
 rs\n
DTSTART;TZID=Europe/Berlin:20150308T193000
DTEND;TZID=Europe/Berlin:20150308T210000
LOCATION:St. Jakob Arena - Basel
SUMMARY:Training Energy Stars
URL:https://iwb-energy-stars.ch/index.php?option=com_jem&view=event&id=6:tr
 aining-energy-stars
END:VEVENT
END:VCALENDAR