BEGIN:VCALENDAR
VERSION:2.0
PRODID:-//49.12.112.25//NONSGML kigkonsult.se iCalcreator 2.20//
CALSCALE:GREGORIAN
METHOD:PUBLISH
X-WR-TIMEZONE:Europe/Berlin
BEGIN:VEVENT
UID:event72@IWB Energy Stars
DTSTAMP:20260421T173025Z
CATEGORIES:Meisterschafts - Spiel
DESCRIPTION:EHC Herrischried 1b : IWB Energy Stars\nCategory: Meisterschaft
 s - Spiel\nLink: https://iwb-energy-stars.ch/index.php?option=com_jem&view
 =event&id=72:training\n
DTSTART;TZID=Europe/Berlin:20161211T183000
DTEND;TZID=Europe/Berlin:20161211T203000
LOCATION:Eishalle Herrischried\,Herrischried / DE
SUMMARY:EHC Herrischried 1b : IWB Energy Stars
URL:https://iwb-energy-stars.ch/index.php?option=com_jem&view=event&id=72:t
 raining
END:VEVENT
END:VCALENDAR