BEGIN:VCALENDAR
VERSION:2.0
PRODID:-//49.12.112.25//NONSGML kigkonsult.se iCalcreator 2.20//
CALSCALE:GREGORIAN
METHOD:PUBLISH
X-WR-TIMEZONE:Europe/Berlin
BEGIN:VEVENT
UID:event74@IWB Energy Stars
DTSTAMP:20260421T173946Z
CATEGORIES:Meisterschafts - Spiel
DESCRIPTION:Losers : IWB Energy Stars\nCategory: Meisterschafts - Spiel\nLi
 nk: https://iwb-energy-stars.ch/index.php?option=com_jem&view=event&id=74:
 losers-iwb-energy-stars\n
DTSTART;TZID=Europe/Berlin:20170108T193000
DTEND;TZID=Europe/Berlin:20170108T213000
LOCATION:St. Jakob Arena - Basel
SUMMARY:Losers : IWB Energy Stars
URL:https://iwb-energy-stars.ch/index.php?option=com_jem&view=event&id=74:l
 osers-iwb-energy-stars
END:VEVENT
END:VCALENDAR