BEGIN:VCALENDAR
VERSION:2.0
PRODID:-//49.12.112.25//NONSGML kigkonsult.se iCalcreator 2.20//
CALSCALE:GREGORIAN
METHOD:PUBLISH
X-WR-TIMEZONE:Europe/Berlin
BEGIN:VEVENT
UID:event79@IWB Energy Stars
DTSTAMP:20260421T174009Z
CATEGORIES:Meisterschafts - Spiel
DESCRIPTION:Arena Selection / Gast : IWB Energy Stars\nCategory: Meistersch
 afts - Spiel\nLink: https://iwb-energy-stars.ch/index.php?option=com_jem&v
 iew=event&id=79:arena-selection-gast-iwb-energy-stars\n
DTSTART;TZID=Europe/Berlin:20170212T190000
DTEND;TZID=Europe/Berlin:20170212T210000
LOCATION:St. Jakob Arena - Basel
SUMMARY:Arena Selection / Gast : IWB Energy Stars
URL:https://iwb-energy-stars.ch/index.php?option=com_jem&view=event&id=79:a
 rena-selection-gast-iwb-energy-stars
END:VEVENT
END:VCALENDAR